BEGIN:VCALENDAR
VERSION:2.0
PRODID:-//Tukios.com/
BEGIN:VEVENT
UID:1c322a3b-bd3d-4708-aa8a-9635ee1246a8@www.cookefuneral.com
DTSTAMP:20260422T031837Z
DTSTART:20260424T150000Z
DTEND:20260424T160000Z
SUMMARY:Graveside Service
DESCRIPTION:
URL:https://www.cookefuneral.com/obituaries/wingate-spivey
LOCATION: 541 North Bear Swamp Road  Lake View SC 29563
GEO:34.3482718;-79.1428012
END:VEVENT
END:VCALENDAR