BEGIN:VCALENDAR
VERSION:2.0
PRODID:-//Tukios.com/
BEGIN:VEVENT
UID:9fcd84ef-8491-4524-9834-c8dcc6a5dd74@www.cookefuneral.com
DTSTAMP:20260422T031734Z
DTSTART:20260424T140000Z
DTEND:20260424T150000Z
SUMMARY:Visitation
DESCRIPTION:
URL:https://www.cookefuneral.com/obituaries/wingate-spivey
LOCATION:Bear Swamp Baptist Church 541 North Bear Swamp Road  Lake View 
	SC 29563
GEO:34.3482718;-79.1428012
END:VEVENT
END:VCALENDAR