BEGIN:VCALENDAR
VERSION:2.0
PRODID:-//Tukios.com/
BEGIN:VEVENT
UID:39073533-ebbe-4a93-811c-155065c183af@www.cookefuneral.com
DTSTAMP:20260422T031438Z
DTSTART:20260426T180000Z
DTEND:20260426T190000Z
SUMMARY:Funeral Service
DESCRIPTION:
URL:https://www.cookefuneral.com/obituaries/ona-gaddy
LOCATION:Piney Grove Baptist Church 152 Piney Grove Road  Lake View SC 
	29563
GEO:34.3857751;-79.2393246
END:VEVENT
END:VCALENDAR