BEGIN:VCALENDAR
VERSION:2.0
PRODID:-//Tukios.com/
BEGIN:VEVENT
UID:95a89562-e39c-42b8-bcbc-7e371c778a99@www.cookefuneral.com
DTSTAMP:20260422T031024Z
DTSTART:20260425T150000Z
DTEND:20260425T160000Z
SUMMARY:Celebration of Life
DESCRIPTION:
URL:https://www.cookefuneral.com/obituaries/james-lupo
LOCATION:Home of Jamie Johnson 1868 Houndsfield Drive  Florence SC 29506
GEO:34.2271561;-79.6973798
END:VEVENT
END:VCALENDAR